BEGIN:VCALENDAR
VERSION:2.0
PRODID:-//Front Avenue Pottery and Tile - ECPv6.15.20//NONSGML v1.0//EN
CALSCALE:GREGORIAN
METHOD:PUBLISH
X-WR-CALNAME:Front Avenue Pottery and Tile
X-ORIGINAL-URL:https://frontavenuepotteryandtile.com
X-WR-CALDESC:Events for Front Avenue Pottery and Tile
REFRESH-INTERVAL;VALUE=DURATION:PT1H
X-Robots-Tag:noindex
X-PUBLISHED-TTL:PT1H
BEGIN:VTIMEZONE
TZID:America/Chicago
BEGIN:DAYLIGHT
TZOFFSETFROM:-0600
TZOFFSETTO:-0500
TZNAME:CDT
DTSTART:20230312T080000
END:DAYLIGHT
BEGIN:STANDARD
TZOFFSETFROM:-0500
TZOFFSETTO:-0600
TZNAME:CST
DTSTART:20231105T070000
END:STANDARD
BEGIN:DAYLIGHT
TZOFFSETFROM:-0600
TZOFFSETTO:-0500
TZNAME:CDT
DTSTART:20240310T080000
END:DAYLIGHT
BEGIN:STANDARD
TZOFFSETFROM:-0500
TZOFFSETTO:-0600
TZNAME:CST
DTSTART:20241103T070000
END:STANDARD
BEGIN:DAYLIGHT
TZOFFSETFROM:-0600
TZOFFSETTO:-0500
TZNAME:CDT
DTSTART:20250309T080000
END:DAYLIGHT
BEGIN:STANDARD
TZOFFSETFROM:-0500
TZOFFSETTO:-0600
TZNAME:CST
DTSTART:20251102T070000
END:STANDARD
END:VTIMEZONE
BEGIN:VEVENT
DTSTART;TZID=America/Chicago:20240609T100000
DTEND;TZID=America/Chicago:20240609T160000
DTSTAMP:20260424T162528
CREATED:20240518T021658Z
LAST-MODIFIED:20240518T022144Z
UID:10000428-1717927200-1717948800@frontavenuepotteryandtile.com
SUMMARY:IOWA ARTS FESTIVAL
DESCRIPTION:JUNE 6-9\, FRI\, 5-8\, SAT. 10-7\, SUN. 10-4 \nI LOVE IOWA CITY!!  FRONT AVE POTTERY IS LOOKING FORWARD TO CATCHING UP WITH EVERYONE\, SEE YOU SOON! \n \nThe Iowa Arts Festival is an award-winning\, weekend-long community celebration featuring over 110 local and national visual artists. Ceramics\, textiles\, painting\, drawing\, photography\, jewelry\, sculpture and more!  Music performances\, food vendors serving regional and ethnic dishes\, and creative\, educational activities and entertainment for children. The Iowa Arts Festival is the most anticipated art event of the summer! \n 
URL:https://frontavenuepotteryandtile.com/event/iowa-arts-festival-3/
LOCATION:IOWA ARTS FESTIVAL\, Washington and Linn St.\, Iowa City\, 52240\, United States
END:VEVENT
BEGIN:VEVENT
DTSTART;TZID=America/Chicago:20240608T100000
DTEND;TZID=America/Chicago:20240608T190000
DTSTAMP:20260424T162528
CREATED:20240518T021606Z
LAST-MODIFIED:20240518T022453Z
UID:10000427-1717840800-1717873200@frontavenuepotteryandtile.com
SUMMARY:IOWA ARTS FESTIVAL
DESCRIPTION:JUNE 6-9\, FRI\, 5-8\, SAT. 10-7\, SUN. 10-4 \nI LOVE IOWA CITY!!  FRONT AVE POTTERY IS LOOKING FORWARD TO CATCHING UP WITH EVERYONE\, SEE YOU SOON! \n \nThe Iowa Arts Festival is an award-winning\, weekend-long community celebration featuring over 110 local and national visual artists. Ceramics\, textiles\, painting\, drawing\, photography\, jewelry\, sculpture and more!  Music performances\, food vendors serving regional and ethnic dishes\, and creative\, educational activities and entertainment for children. The Iowa Arts Festival is the most anticipated art event of the summer! \n 
URL:https://frontavenuepotteryandtile.com/event/iowa-arts-festival/
LOCATION:IOWA ARTS FESTIVAL\, Washington and Linn St.\, Iowa City\, 52240\, United States
END:VEVENT
BEGIN:VEVENT
DTSTART;TZID=America/Chicago:20240607T170000
DTEND;TZID=America/Chicago:20240607T200000
DTSTAMP:20260424T162528
CREATED:20220501T223326Z
LAST-MODIFIED:20240518T022541Z
UID:10000018-1717779600-1717790400@frontavenuepotteryandtile.com
SUMMARY:IOWA ARTS FESTIVAL
DESCRIPTION:JUNE 6-9\, FRI\, 5-8\, SAT. 10-7\, SUN. 10-4 \nI LOVE IOWA CITY!!  FRONT AVE POTTERY IS LOOKING FORWARD TO CATCHING UP WITH EVERYONE\, SEE YOU SOON! \n \nThe Iowa Arts Festival is an award-winning\, weekend-long community celebration featuring over 110 local and national visual artists. Ceramics\, textiles\, painting\, drawing\, photography\, jewelry\, sculpture and more!  Music performances\, food vendors serving regional and ethnic dishes\, and creative\, educational activities and entertainment for children. The Iowa Arts Festival is the most anticipated art event of the summer! \n 
URL:https://frontavenuepotteryandtile.com/event/iowa-arts-festival-2/
LOCATION:IOWA ARTS FESTIVAL\, Washington and Linn St.\, Iowa City\, 52240\, United States
END:VEVENT
END:VCALENDAR