BEGIN:VCALENDAR
VERSION:2.0
PRODID:-//Front Avenue Pottery and Tile - ECPv6.15.20//NONSGML v1.0//EN
CALSCALE:GREGORIAN
METHOD:PUBLISH
X-ORIGINAL-URL:https://frontavenuepotteryandtile.com
X-WR-CALDESC:Events for Front Avenue Pottery and Tile
REFRESH-INTERVAL;VALUE=DURATION:PT1H
X-Robots-Tag:noindex
X-PUBLISHED-TTL:PT1H
BEGIN:VTIMEZONE
TZID:America/Chicago
BEGIN:DAYLIGHT
TZOFFSETFROM:-0600
TZOFFSETTO:-0500
TZNAME:CDT
DTSTART:20230312T080000
END:DAYLIGHT
BEGIN:STANDARD
TZOFFSETFROM:-0500
TZOFFSETTO:-0600
TZNAME:CST
DTSTART:20231105T070000
END:STANDARD
BEGIN:DAYLIGHT
TZOFFSETFROM:-0600
TZOFFSETTO:-0500
TZNAME:CDT
DTSTART:20240310T080000
END:DAYLIGHT
BEGIN:STANDARD
TZOFFSETFROM:-0500
TZOFFSETTO:-0600
TZNAME:CST
DTSTART:20241103T070000
END:STANDARD
BEGIN:DAYLIGHT
TZOFFSETFROM:-0600
TZOFFSETTO:-0500
TZNAME:CDT
DTSTART:20250309T080000
END:DAYLIGHT
BEGIN:STANDARD
TZOFFSETFROM:-0500
TZOFFSETTO:-0600
TZNAME:CST
DTSTART:20251102T070000
END:STANDARD
END:VTIMEZONE
BEGIN:VEVENT
DTSTART;TZID=America/Chicago:20241201T093000
DTEND;TZID=America/Chicago:20241230T180000
DTSTAMP:20260424T144125
CREATED:20221201T224817Z
LAST-MODIFIED:20241015T201420Z
UID:10000023-1733045400-1735581600@frontavenuepotteryandtile.com
SUMMARY:BOREAL ARTIST LOFT
DESCRIPTION:FEATURED ARTIST AT BOREAL ART LOFT! \nJOIN FRONT AVENUE POTTERY & SEVERAL OTHER LOCAL FINE CRAFT ARTISTS IN THIS SEASON’S ART LOFT!  POTTER’S \, WOODWORKERS\, PAINTERS\, FIBER ARTISTS! \nDecember 3-28\, 2024 \nBoreal Gifts\, 2276 Como Ave\, St Paul\, MN 55108 \nHours: M-Sat 9:30am-6pm\, Sun. 10am-4pm \nFRONT AVENUE POTTERY – Mary Jo Schmith – https://frontavenuepotteryandtile.com/ \nWOODCRAFT BY PGS – Peter Skupeko \nLONNIE BRODEN – Painting – https://lonniebrodenpaintings.com/ \nRYAN BALL – Pottery – https://ryanballpottery.com/ \nLUCI HAAS – Pottery – https://www.adoraeartworks.com/ \nALANA HAW:EY – Pottery – https://alanahawley.com/ \nCAUFIELD CLAYWORKS POTTERY – Kevin Caufield – https://www.caufieldclayworks.com/ \nHALEY MACKLEM ART- Haley Macklem
URL:https://frontavenuepotteryandtile.com/event/boreal-artist-loft/
LOCATION:BOREAL\, 2276 Como Ave\, St Paul\, MN\, 55108\, United States
END:VEVENT
BEGIN:VEVENT
DTSTART;TZID=America/Chicago:20241206T170000
DTEND;TZID=America/Chicago:20241206T190000
DTSTAMP:20260424T144125
CREATED:20240916T151725Z
LAST-MODIFIED:20240916T151905Z
UID:10000438-1733504400-1733511600@frontavenuepotteryandtile.com
SUMMARY:Boreal Artist Loft Opening!
DESCRIPTION:BOREAL ART LOFT OPENING DECEMBER 6th\, 2024 5pm-7pm! Boreal Gifts\, 2276 Como Ave\, St Paul\, MN 55108 \nFEATURED ARTIST AT BOREAL ART LOFT! JOIN FRONT AVENUE POTTERY & SEVERAL OTHER LOCAL FINE CRAFT ARTISTS IN THIS SEASON’S ART LOFT!  POTTER’S \, WOODWORKERS & PAINTERS! \nFRONT AVENUE POTTERY – Mary Jo Schmith – https://frontavenuepotteryandtile.com/ \nWOODCRAFT BY PGS – Peter Skupeko \nLONNIE BRODEN – Painting – https://lonniebrodenpaintings.com/ \nRYAN BALL – Pottery – https://ryanballpottery.com/ \nLUCI HAAS – Pottery – https://www.adoraeartworks.com/ \nALANA HAW:EY – Pottery – https://alanahawley.com/ \nCAUFIELD CLAYWORKS POTTERY – Kevin Caufield – https://www.caufieldclayworks.com/ \n 
URL:https://frontavenuepotteryandtile.com/event/boreal-artist-loft-opening/
LOCATION:BOREAL\, 2276 Como Ave\, St Paul\, MN\, 55108\, United States
END:VEVENT
BEGIN:VEVENT
DTSTART;TZID=America/Chicago:20241207T100000
DTEND;TZID=America/Chicago:20241208T160000
DTSTAMP:20260424T144125
CREATED:20241122T181642Z
LAST-MODIFIED:20241122T181750Z
UID:10000441-1733565600-1733673600@frontavenuepotteryandtile.com
SUMMARY:Sjoberg's Open House and Art Sjo!
DESCRIPTION:A WHIMSICAL\, COLORFUL\, COLLECTION OF ART! \nDecember 7 & 8 – Saturday 10-4 & Sunday 12-4\n1108 Vine Street\, Hudson WI\, 54016 \n… Front Avenue Pottery\, hats\, blown glass\, stained glass\, paintings\, & cards… \n 
URL:https://frontavenuepotteryandtile.com/event/sjobergs-open-house-and-art-sjo/
LOCATION:1108 Vine St. hudson WI\, 1108 Vine Street\, Hudson\, WI\, United States
END:VEVENT
END:VCALENDAR