BEGIN:VCALENDAR
VERSION:2.0
PRODID:-//Front Avenue Pottery and Tile - ECPv6.15.20//NONSGML v1.0//EN
CALSCALE:GREGORIAN
METHOD:PUBLISH
X-ORIGINAL-URL:https://frontavenuepotteryandtile.com
X-WR-CALDESC:Events for Front Avenue Pottery and Tile
REFRESH-INTERVAL;VALUE=DURATION:PT1H
X-Robots-Tag:noindex
X-PUBLISHED-TTL:PT1H
BEGIN:VTIMEZONE
TZID:America/Chicago
BEGIN:DAYLIGHT
TZOFFSETFROM:-0600
TZOFFSETTO:-0500
TZNAME:CDT
DTSTART:20230312T080000
END:DAYLIGHT
BEGIN:STANDARD
TZOFFSETFROM:-0500
TZOFFSETTO:-0600
TZNAME:CST
DTSTART:20231105T070000
END:STANDARD
BEGIN:DAYLIGHT
TZOFFSETFROM:-0600
TZOFFSETTO:-0500
TZNAME:CDT
DTSTART:20240310T080000
END:DAYLIGHT
BEGIN:STANDARD
TZOFFSETFROM:-0500
TZOFFSETTO:-0600
TZNAME:CST
DTSTART:20241103T070000
END:STANDARD
BEGIN:DAYLIGHT
TZOFFSETFROM:-0600
TZOFFSETTO:-0500
TZNAME:CDT
DTSTART:20250309T080000
END:DAYLIGHT
BEGIN:STANDARD
TZOFFSETFROM:-0500
TZOFFSETTO:-0600
TZNAME:CST
DTSTART:20251102T070000
END:STANDARD
END:VTIMEZONE
BEGIN:VEVENT
DTSTART;TZID=America/Chicago:20241102T080000
DTEND;TZID=America/Chicago:20241109T170000
DTSTAMP:20260424T162221
CREATED:20220922T202856Z
LAST-MODIFIED:20240814T011048Z
UID:10000021-1730534400-1731171600@frontavenuepotteryandtile.com
SUMMARY:Peggy's Holiday Boutique
DESCRIPTION:Nov. 2-9   Sat.10-6\, Sun.10-4\, M-F 10-8    Roseville Skating Center\, MN \nA CELEBRATED ST. PAUL EVENT\, SUPPORT WOMEN / ARTIST OWNED SMALL BUSINESS & REGIONAL FINE CRAFT!  Fine art and fine crafts show featuring the work of 150 artists in pottery\, wearable art\, fiber\, jewelry\, photography\, glass\, rosemalings\, wood\, gift items\, gourmet food items\, and live music \nFree admission and easy parking.  Www.Peggy’sHolidayBoutique.com \n 
URL:https://frontavenuepotteryandtile.com/event/peggys-holiday-boutique-2/
LOCATION:Peggy’s Holiday Boutique\, 2661 Civic Center Drive\, Roseville\, MN\, 55113\, United States
END:VEVENT
END:VCALENDAR