BEGIN:VCALENDAR
VERSION:2.0
PRODID:-//Front Avenue Pottery and Tile - ECPv6.15.20//NONSGML v1.0//EN
CALSCALE:GREGORIAN
METHOD:PUBLISH
X-ORIGINAL-URL:https://frontavenuepotteryandtile.com
X-WR-CALDESC:Events for Front Avenue Pottery and Tile
REFRESH-INTERVAL;VALUE=DURATION:PT1H
X-Robots-Tag:noindex
X-PUBLISHED-TTL:PT1H
BEGIN:VTIMEZONE
TZID:America/Chicago
BEGIN:DAYLIGHT
TZOFFSETFROM:-0600
TZOFFSETTO:-0500
TZNAME:CDT
DTSTART:20240310T080000
END:DAYLIGHT
BEGIN:STANDARD
TZOFFSETFROM:-0500
TZOFFSETTO:-0600
TZNAME:CST
DTSTART:20241103T070000
END:STANDARD
BEGIN:DAYLIGHT
TZOFFSETFROM:-0600
TZOFFSETTO:-0500
TZNAME:CDT
DTSTART:20250309T080000
END:DAYLIGHT
BEGIN:STANDARD
TZOFFSETFROM:-0500
TZOFFSETTO:-0600
TZNAME:CST
DTSTART:20251102T070000
END:STANDARD
BEGIN:DAYLIGHT
TZOFFSETFROM:-0600
TZOFFSETTO:-0500
TZNAME:CDT
DTSTART:20260308T080000
END:DAYLIGHT
BEGIN:STANDARD
TZOFFSETFROM:-0500
TZOFFSETTO:-0600
TZNAME:CST
DTSTART:20261101T070000
END:STANDARD
BEGIN:DAYLIGHT
TZOFFSETFROM:-0600
TZOFFSETTO:-0500
TZNAME:CDT
DTSTART:20270314T080000
END:DAYLIGHT
BEGIN:STANDARD
TZOFFSETFROM:-0500
TZOFFSETTO:-0600
TZNAME:CST
DTSTART:20271107T070000
END:STANDARD
END:VTIMEZONE
BEGIN:VEVENT
DTSTART;TZID=America/Chicago:20250502T170000
DTEND;TZID=America/Chicago:20250502T210000
DTSTAMP:20260425T075400
CREATED:20250318T154511Z
LAST-MODIFIED:20250408T161928Z
UID:10000442-1746205200-1746219600@frontavenuepotteryandtile.com
SUMMARY:St. Paul Art Crawl!
DESCRIPTION:Join Front Avenue Pottery\, Ryan Ball Pottery\, Portray Clay\, Haley Macklem Art and Jenny Levernier at the St Paul Art Crawl at the Front Avenue Pottery studio May 2nd-5th! Fine Art\, & fun times to be had by all!
URL:https://frontavenuepotteryandtile.com/event/st-paul-art-crawl/2025-05-02/
LOCATION:Front Avenue Pottery and Tile Co.\, 895 Front Avenue\, Saint Paul\, MN\, 55103\, United States
ATTACH;FMTTYPE=image/png:https://frontavenuepotteryandtile.com/wp/wp-content/uploads/2025/03/2025-Spring-t.Paul-Art-Crawl-Insert-Your-Logo-.png
END:VEVENT
BEGIN:VEVENT
DTSTART;TZID=America/Chicago:20250621T090000
DTEND;TZID=America/Chicago:20250622T160000
DTSTAMP:20260425T075400
CREATED:20250514T160825Z
LAST-MODIFIED:20250514T160859Z
UID:10000455-1750496400-1750608000@frontavenuepotteryandtile.com
SUMMARY:Eagan Art Festival
DESCRIPTION:JOIN NEWBIE FRONT AVENUE POTTERY !!! \nSaturday\, June 21st\, 9am-5pm & Sunday\, June 22nd\, 10am-4pm \nThe annual Eagan Art Festival will celebrate 31 years in 2025! Located at the Central Park Fair Grounds in Eagan\, MN\, this event provides free art experiences for 10\,000+ visitors annually and showcases 100+ artists covering multiple disciplines\, including visual\, music\, and performing arts. Experiences such as artist demonstrations and a kids scavenger hunt offer free take-away items for participants.
URL:https://frontavenuepotteryandtile.com/event/eagan-art-festival/
LOCATION:Eagan’s Central Park\, 1501 Central pkwy\, Eagan\, United States
ATTACH;FMTTYPE=image/jpeg:https://frontavenuepotteryandtile.com/wp/wp-content/uploads/2025/05/Eagan-Art-Festival.jpg
END:VEVENT
BEGIN:VEVENT
DTSTART;TZID=America/Chicago:20250712T090000
DTEND;TZID=America/Chicago:20250712T180000
DTSTAMP:20260425T075400
CREATED:20250324T145013Z
LAST-MODIFIED:20250324T182305Z
UID:10000453-1752310800-1752343200@frontavenuepotteryandtile.com
SUMMARY:Madison ART FAIR on the Square
DESCRIPTION:Admission Free \nOne of the Midwest’s most popular and highly regarded outdoor celebrations of the arts will return to the Capitol Square on Saturday\, July 12 and Sunday\, July 13\, 2025\, as MMoCA presents the 67th annual Art Fair on the Square. \nWith its mix of music\, entertainment\, and outdoor dining\, as well as over 500 artists exhibiting paintings\, prints\, photographs\, sculpture\, jewelry\, handmade clothing and accessories\, and fine craft\, the fair draws nearly 200\,000 visitors to Madison’s Capitol Square. \n\n2025 Art Fair Schedule\nSaturday\, July 12\, 2025 (9 AM–6 PM)\nSunday\, July 13\, 2025 (10 AM–5 PM)
URL:https://frontavenuepotteryandtile.com/event/madison-art-fair-on-the-square/2025-07-12/
LOCATION:Madison- Art Fair on the Square\, 2 E Main St\, Madison\, 53703
ATTACH;FMTTYPE=image/jpeg:https://frontavenuepotteryandtile.com/wp/wp-content/uploads/2025/03/Maurice-Thaler-2-copy.jpg
END:VEVENT
BEGIN:VEVENT
DTSTART;TZID=America/Chicago:20250726T100000
DTEND;TZID=America/Chicago:20250726T170000
DTSTAMP:20260425T075400
CREATED:20240518T032125Z
LAST-MODIFIED:20250311T181400Z
UID:10000432-1753524000-1753549200@frontavenuepotteryandtile.com
SUMMARY:MINNESOTA POTTERY FESTIVAL
DESCRIPTION:JULY 26-27  SAT. 10-5\, SUN. 11-4\nThe mission of the Minnesota Pottery Festival is to provide a venue for high quality clay artists to educate and engage with an increasingly knowledgeable public by raising the public’s appreciation and understanding of pottery and help broaden the depth and breadth of ceramic arts in Minnesota.\nFUN IS HAD BY ALL!  POTTERY\, POTTERS\, FOOD TRUCKS\, BEVERAGES\, LOTS OF PARKING.  SEE YOU SOON!\nCome explore a world of handmade ceramics and enjoy the stories of the people who created them. Browse racks of one-of-a-kind pottery\, find unique gifts for everyone\, and treat yourself to something weird and wonderful that couldn’t be found anywhere else. \n\n 
URL:https://frontavenuepotteryandtile.com/event/minnesota-pottery-festival-4/
LOCATION:MN Pottery Festival\, West Masonic River Park Les Kouba Pkwy NW\, Hutchinson\, MN\, 55350\, United States
END:VEVENT
BEGIN:VEVENT
DTSTART;TZID=America/Chicago:20250727T100000
DTEND;TZID=America/Chicago:20250727T170000
DTSTAMP:20260425T075400
CREATED:20220501T231932Z
LAST-MODIFIED:20250311T181614Z
UID:10000002-1753610400-1753635600@frontavenuepotteryandtile.com
SUMMARY:MINNESOTA POTTERY FESTIVAL
DESCRIPTION:JULY 26-27  SAT. 10-5\, SUN. 11-4\nThe mission of the Minnesota Pottery Festival is to provide a venue for high quality clay artists to educate and engage with an increasingly knowledgeable public by raising the public’s appreciation and understanding of pottery and help broaden the depth and breadth of ceramic arts in Minnesota.\nFUN IS HAD BY ALL!  POTTERY\, POTTERS\, FOOD TRUCKS\, BEVERAGES\, LOTS OF PARKING.  SEE YOU SOON!\nCome explore a world of handmade ceramics and enjoy the stories of the people who created them. Browse racks of one-of-a-kind pottery\, find unique gifts for everyone\, and treat yourself to something weird and wonderful that couldn’t be found anywhere else. \n\n 
URL:https://frontavenuepotteryandtile.com/event/minnesota-pottery-festival-2/
LOCATION:MN Pottery Festival\, West Masonic River Park Les Kouba Pkwy NW\, Hutchinson\, MN\, 55350\, United States
END:VEVENT
BEGIN:VEVENT
DTSTART;TZID=America/Chicago:20250823T100000
DTEND;TZID=America/Chicago:20250823T170000
DTSTAMP:20260425T075400
CREATED:20210320T131806Z
LAST-MODIFIED:20250318T153209Z
UID:10000030-1755943200-1755968400@frontavenuepotteryandtile.com
SUMMARY:PORT CLINTON ART FESTIVAL
DESCRIPTION:AUGUST 23-24  10AM-5PM BOTH DAYS \nThe 42st Annual Port Clinton Art Festival returns to downtown Highland Park\, Illinois! \nSee the works of 260 “best of the best” artists at this historically ranked national top festival.  Celebrate 42 years of art at Port Clinton Art Festival in Highland Park \nceramics\, painting\, jewelry\, sculpture\, photographs\, fashion wearables\, furniture and more.  The downtown streets are closed to traffic during the festival\, so attendees can appreciate the city’s architecture and landscaping by foot in a relaxed fashion. enjoy delicious food and beverages from neighborhood establishments!
URL:https://frontavenuepotteryandtile.com/event/port-clinton-art-festival/
LOCATION:Port Clinton Art Festival\, 600 Central Ave.\, Highland Park\, IL\, United States
CATEGORIES:Shows
ATTACH;FMTTYPE=image/jpeg:https://frontavenuepotteryandtile.com/wp/wp-content/uploads/2021/03/port-clinton-art-festival-logo.jpg
END:VEVENT
BEGIN:VEVENT
DTSTART;TZID=America/Chicago:20250906T100000
DTEND;TZID=America/Chicago:20250907T170000
DTSTAMP:20260425T075400
CREATED:20230411T210520Z
LAST-MODIFIED:20250813T163255Z
UID:10000036-1757152800-1757264400@frontavenuepotteryandtile.com
SUMMARY:EDINA FALL INTO THE ARTS FESTIVAL
DESCRIPTION:2025 Edina Fall into the Arts Festival\nSeptember 6th and 7th\, 2025 \nCentennial Lakes Park\, Edina \nSaturday: 10am-6pm\nSunday: 10am-5pm
URL:https://frontavenuepotteryandtile.com/event/edina-fall-into-the-arts-festival-2/
LOCATION:Cenennial Lakes Park\, 7499 France Ave S\, Edina\, MN\, 55435\, United States
ATTACH;FMTTYPE=image/jpeg:https://frontavenuepotteryandtile.com/wp/wp-content/uploads/2023/04/FITAF_Logo_WithTriangles-4-p5-x-1-inches.jpg
END:VEVENT
BEGIN:VEVENT
DTSTART;TZID=America/Chicago:20250907T100000
DTEND;TZID=America/Chicago:20250907T170000
DTSTAMP:20260425T075400
CREATED:20220726T214604Z
LAST-MODIFIED:20250813T163454Z
UID:10000457-1757239200-1757264400@frontavenuepotteryandtile.com
SUMMARY:EDINA FALL INTO THE ARTS FESTIVAL
DESCRIPTION:2025 Edina Fall into the Arts Festival\nSeptember 6th & 7th\, 2025 \nCentennial Lakes Park\, Edina \nSaturday: 10am-6pm\nSunday: 10am-5pm
URL:https://frontavenuepotteryandtile.com/event/edina-fall-into-the-arts-fest/
LOCATION:Cenennial Lakes Park\, 7499 France Ave S\, Edina\, MN\, 55435\, United States
ATTACH;FMTTYPE=image/jpeg:https://frontavenuepotteryandtile.com/wp/wp-content/uploads/2023/04/FITAF_Logo_WithTriangles-4-p5-x-1-inches.jpg
END:VEVENT
BEGIN:VEVENT
DTSTART;TZID=America/Chicago:20251004T100000
DTEND;TZID=America/Chicago:20251004T180000
DTSTAMP:20260425T075400
CREATED:20240518T040510Z
LAST-MODIFIED:20250318T160225Z
UID:10000436-1759572000-1759600800@frontavenuepotteryandtile.com
SUMMARY:ST. JAMES COURT ART SHOW
DESCRIPTION:OCT 3-5  FRI. 10-6  SAT. 10-6  SUN 10-5 \nSt. James Court Art Show has been named the #1 “Best Fine Art and Design Show” by Sunshine Artist magazine. Ranking among 200 of the most profitable art festivals in the country based on artists’ reported sales in 2022.\n2025 marks the 69th Annual St. James Court Art Show.\nThe St. James Court Art Show is a juried fine arts and contemporary crafts show featuring over 600 artists from around the U.S. held among the country’s largest collection of Victorian homes in the heart of historic Old Louisville.\nFIND FRONT AVENUE POTTERY IN THE ST. JAMES COURT ART SECTION\, BOOTH SJ-383
URL:https://frontavenuepotteryandtile.com/event/st-james-court-art-show-3/
LOCATION:St. James Court Art Show\, 1402 St James Court\, Louisville\, KY\, 40208\, United States
ATTACH;FMTTYPE=image/png:https://frontavenuepotteryandtile.com/wp/wp-content/uploads/2022/07/StJamesLogo_horiz.png
END:VEVENT
BEGIN:VEVENT
DTSTART;TZID=America/Chicago:20260523T100000
DTEND;TZID=America/Chicago:20260523T170000
DTSTAMP:20260425T075400
CREATED:20240518T020747Z
LAST-MODIFIED:20260120T201114Z
UID:10000426-1779530400-1779555600@frontavenuepotteryandtile.com
SUMMARY:BARRINGTON ART FESTIVAL
DESCRIPTION:MAY 23-24\, 10-5 BOTH DAYS! \n \nDowntown Barrington is the setting for the annual Barrington Art Festival\, which takes place on the Saturday and Sunday of Memorial Day Weekend.  FRONT AVE POTTERY is looking forward to exhibiting in this welcoming community\, this show rocks!   This beloved art fest fills the streets with artists from near and far showing and selling art in all media including paintings\, pottery\, sculpture\, jewelry\, wearables and more! Live music and youth art activities add to the weekend’s fun. Great restaurants\, cafes and ice creameries line the festival route. Free admission makes this a definite yes on the planning calendar!
URL:https://frontavenuepotteryandtile.com/event/barrington-art-festival/
LOCATION:Downtown Barrington\, Cook & Station Streets\, Barrington\, IL\, 60010\, United States
END:VEVENT
BEGIN:VEVENT
DTSTART;TZID=America/Chicago:20260524T100000
DTEND;TZID=America/Chicago:20260524T170000
DTSTAMP:20260425T075400
CREATED:20230407T192736Z
LAST-MODIFIED:20260120T201308Z
UID:10000027-1779616800-1779642000@frontavenuepotteryandtile.com
SUMMARY:BARRINGTON ART FESTIVAL
DESCRIPTION:MAY 23-24\, 2026  10-5 BOTH DAYS! \n \nDowntown Barrington is the setting for the annual Barrington Art Festival\, which takes place on the Saturday and Sunday of Memorial Day Weekend.  FRONT AVE POTTERY is looking forward to exhibiting in this welcoming community\, this show rocks!   This beloved art fest fills the streets with artists from near and far showing and selling art in all media including paintings\, pottery\, sculpture\, jewelry\, wearables and more! Live music and youth art activities add to the weekend’s fun. Great restaurants\, cafes and ice creameries line the festival route. Free admission makes this a definite yes on the planning calendar!
URL:https://frontavenuepotteryandtile.com/event/barrington/
LOCATION:Downtown Barrington\, Cook & Station Streets\, Barrington\, IL\, 60010\, United States
END:VEVENT
BEGIN:VEVENT
DTSTART;TZID=America/Chicago:20261002T100000
DTEND;TZID=America/Chicago:20261002T170000
DTSTAMP:20260425T075400
CREATED:20240518T040750Z
LAST-MODIFIED:20260120T200126Z
UID:10000460-1790935200-1790960400@frontavenuepotteryandtile.com
SUMMARY:ST. JAMES COURT ART SHOW
DESCRIPTION:OCT 3-5  FRI. 10-6  SAT. 10-6  SUN 10-5 \nSt. James Court Art Show has been named the #1 “Best Fine Art and Design Show” by Sunshine Artist magazine. Ranking among 200 of the most profitable art festivals in the country based on artists’ reported sales in 2022.\n2026 marks the 70th Annual St. James Court Art Show!!\nThe St. James Court Art Show is a juried fine arts and contemporary crafts show featuring over 600 artists from around the U.S. held among the country’s largest collection of Victorian homes in the heart of historic Old Louisville.\nFIND FRONT AVENUE POTTERY!
URL:https://frontavenuepotteryandtile.com/event/st-james-court-art-show-4/2026-10-02/2/
LOCATION:St. James Court Art Show\, 1402 St James Court\, Louisville\, KY\, 40208\, United States
CATEGORIES:Shows
ATTACH;FMTTYPE=image/png:https://frontavenuepotteryandtile.com/wp/wp-content/uploads/2022/07/StJamesLogo_horiz.png
END:VEVENT
BEGIN:VEVENT
DTSTART;TZID=America/Chicago:20261004T100000
DTEND;TZID=America/Chicago:20261004T170000
DTSTAMP:20260425T075400
CREATED:20230411T205812Z
LAST-MODIFIED:20260120T200919Z
UID:10000035-1791108000-1791133200@frontavenuepotteryandtile.com
SUMMARY:ST. JAMES COURT ART SHOW
DESCRIPTION:OCT 2-4:  FRI 10-6  SAT 10-6  SUN 10-5 \nSt. James Court Art Show has been named the #1 “Best Fine Art and Design Show” by Sunshine Artist magazine. Ranking among 200 of the most profitable art festivals in the country based on artists’ reported sales in 2022.\n2026 marks the 70th Annual St. James Court Art Show.\nThe St. James Court Art Show is a juried fine arts and contemporary crafts show featuring over 600 artists from around the U.S. held among the country’s largest collection of Victorian homes in the heart of historic Old Louisville.\nFIND FRONT AVENUE POTTERY IN THE ST. JAMES COURT ART SECTION\, BOOTH SJ-383
URL:https://frontavenuepotteryandtile.com/event/st-james-court-art-show/
LOCATION:St. James Court Art Show\, 1402 St James Court\, Louisville\, KY\, 40208\, United States
ATTACH;FMTTYPE=image/png:https://frontavenuepotteryandtile.com/wp/wp-content/uploads/2022/07/StJamesLogo_horiz.png
END:VEVENT
END:VCALENDAR