BEGIN:VCALENDAR
VERSION:2.0
PRODID:-//Front Avenue Pottery and Tile - ECPv6.15.20//NONSGML v1.0//EN
CALSCALE:GREGORIAN
METHOD:PUBLISH
X-WR-CALNAME:Front Avenue Pottery and Tile
X-ORIGINAL-URL:https://frontavenuepotteryandtile.com
X-WR-CALDESC:Events for Front Avenue Pottery and Tile
REFRESH-INTERVAL;VALUE=DURATION:PT1H
X-Robots-Tag:noindex
X-PUBLISHED-TTL:PT1H
BEGIN:VTIMEZONE
TZID:America/Chicago
BEGIN:DAYLIGHT
TZOFFSETFROM:-0600
TZOFFSETTO:-0500
TZNAME:CDT
DTSTART:20240310T080000
END:DAYLIGHT
BEGIN:STANDARD
TZOFFSETFROM:-0500
TZOFFSETTO:-0600
TZNAME:CST
DTSTART:20241103T070000
END:STANDARD
BEGIN:DAYLIGHT
TZOFFSETFROM:-0600
TZOFFSETTO:-0500
TZNAME:CDT
DTSTART:20250309T080000
END:DAYLIGHT
BEGIN:STANDARD
TZOFFSETFROM:-0500
TZOFFSETTO:-0600
TZNAME:CST
DTSTART:20251102T070000
END:STANDARD
BEGIN:DAYLIGHT
TZOFFSETFROM:-0600
TZOFFSETTO:-0500
TZNAME:CDT
DTSTART:20260308T080000
END:DAYLIGHT
BEGIN:STANDARD
TZOFFSETFROM:-0500
TZOFFSETTO:-0600
TZNAME:CST
DTSTART:20261101T070000
END:STANDARD
BEGIN:DAYLIGHT
TZOFFSETFROM:-0600
TZOFFSETTO:-0500
TZNAME:CDT
DTSTART:20270314T080000
END:DAYLIGHT
BEGIN:STANDARD
TZOFFSETFROM:-0500
TZOFFSETTO:-0600
TZNAME:CST
DTSTART:20271107T070000
END:STANDARD
END:VTIMEZONE
BEGIN:VEVENT
DTSTART;TZID=America/Chicago:20250907T100000
DTEND;TZID=America/Chicago:20250907T170000
DTSTAMP:20260425T075732
CREATED:20220726T214604Z
LAST-MODIFIED:20250813T163454Z
UID:10000457-1757239200-1757264400@frontavenuepotteryandtile.com
SUMMARY:EDINA FALL INTO THE ARTS FESTIVAL
DESCRIPTION:2025 Edina Fall into the Arts Festival\nSeptember 6th & 7th\, 2025 \nCentennial Lakes Park\, Edina \nSaturday: 10am-6pm\nSunday: 10am-5pm
URL:https://frontavenuepotteryandtile.com/event/edina-fall-into-the-arts-fest/
LOCATION:Cenennial Lakes Park\, 7499 France Ave S\, Edina\, MN\, 55435\, United States
ATTACH;FMTTYPE=image/jpeg:https://frontavenuepotteryandtile.com/wp/wp-content/uploads/2023/04/FITAF_Logo_WithTriangles-4-p5-x-1-inches.jpg
END:VEVENT
BEGIN:VEVENT
DTSTART;TZID=America/Chicago:20251004T100000
DTEND;TZID=America/Chicago:20251004T180000
DTSTAMP:20260425T075732
CREATED:20240518T040510Z
LAST-MODIFIED:20250318T160225Z
UID:10000436-1759572000-1759600800@frontavenuepotteryandtile.com
SUMMARY:ST. JAMES COURT ART SHOW
DESCRIPTION:OCT 3-5  FRI. 10-6  SAT. 10-6  SUN 10-5 \nSt. James Court Art Show has been named the #1 “Best Fine Art and Design Show” by Sunshine Artist magazine. Ranking among 200 of the most profitable art festivals in the country based on artists’ reported sales in 2022.\n2025 marks the 69th Annual St. James Court Art Show.\nThe St. James Court Art Show is a juried fine arts and contemporary crafts show featuring over 600 artists from around the U.S. held among the country’s largest collection of Victorian homes in the heart of historic Old Louisville.\nFIND FRONT AVENUE POTTERY IN THE ST. JAMES COURT ART SECTION\, BOOTH SJ-383
URL:https://frontavenuepotteryandtile.com/event/st-james-court-art-show-3/
LOCATION:St. James Court Art Show\, 1402 St James Court\, Louisville\, KY\, 40208\, United States
ATTACH;FMTTYPE=image/png:https://frontavenuepotteryandtile.com/wp/wp-content/uploads/2022/07/StJamesLogo_horiz.png
END:VEVENT
BEGIN:VEVENT
DTSTART;TZID=America/Chicago:20260523T100000
DTEND;TZID=America/Chicago:20260523T170000
DTSTAMP:20260425T075732
CREATED:20240518T020747Z
LAST-MODIFIED:20260120T201114Z
UID:10000426-1779530400-1779555600@frontavenuepotteryandtile.com
SUMMARY:BARRINGTON ART FESTIVAL
DESCRIPTION:MAY 23-24\, 10-5 BOTH DAYS! \n \nDowntown Barrington is the setting for the annual Barrington Art Festival\, which takes place on the Saturday and Sunday of Memorial Day Weekend.  FRONT AVE POTTERY is looking forward to exhibiting in this welcoming community\, this show rocks!   This beloved art fest fills the streets with artists from near and far showing and selling art in all media including paintings\, pottery\, sculpture\, jewelry\, wearables and more! Live music and youth art activities add to the weekend’s fun. Great restaurants\, cafes and ice creameries line the festival route. Free admission makes this a definite yes on the planning calendar!
URL:https://frontavenuepotteryandtile.com/event/barrington-art-festival/
LOCATION:Downtown Barrington\, Cook & Station Streets\, Barrington\, IL\, 60010\, United States
END:VEVENT
BEGIN:VEVENT
DTSTART;TZID=America/Chicago:20260524T100000
DTEND;TZID=America/Chicago:20260524T170000
DTSTAMP:20260425T075732
CREATED:20230407T192736Z
LAST-MODIFIED:20260120T201308Z
UID:10000027-1779616800-1779642000@frontavenuepotteryandtile.com
SUMMARY:BARRINGTON ART FESTIVAL
DESCRIPTION:MAY 23-24\, 2026  10-5 BOTH DAYS! \n \nDowntown Barrington is the setting for the annual Barrington Art Festival\, which takes place on the Saturday and Sunday of Memorial Day Weekend.  FRONT AVE POTTERY is looking forward to exhibiting in this welcoming community\, this show rocks!   This beloved art fest fills the streets with artists from near and far showing and selling art in all media including paintings\, pottery\, sculpture\, jewelry\, wearables and more! Live music and youth art activities add to the weekend’s fun. Great restaurants\, cafes and ice creameries line the festival route. Free admission makes this a definite yes on the planning calendar!
URL:https://frontavenuepotteryandtile.com/event/barrington/
LOCATION:Downtown Barrington\, Cook & Station Streets\, Barrington\, IL\, 60010\, United States
END:VEVENT
BEGIN:VEVENT
DTSTART;TZID=America/Chicago:20261002T100000
DTEND;TZID=America/Chicago:20261002T170000
DTSTAMP:20260425T075732
CREATED:20240518T040750Z
LAST-MODIFIED:20260120T200126Z
UID:10000460-1790935200-1790960400@frontavenuepotteryandtile.com
SUMMARY:ST. JAMES COURT ART SHOW
DESCRIPTION:OCT 3-5  FRI. 10-6  SAT. 10-6  SUN 10-5 \nSt. James Court Art Show has been named the #1 “Best Fine Art and Design Show” by Sunshine Artist magazine. Ranking among 200 of the most profitable art festivals in the country based on artists’ reported sales in 2022.\n2026 marks the 70th Annual St. James Court Art Show!!\nThe St. James Court Art Show is a juried fine arts and contemporary crafts show featuring over 600 artists from around the U.S. held among the country’s largest collection of Victorian homes in the heart of historic Old Louisville.\nFIND FRONT AVENUE POTTERY!
URL:https://frontavenuepotteryandtile.com/event/st-james-court-art-show-4/2026-10-02/2/
LOCATION:St. James Court Art Show\, 1402 St James Court\, Louisville\, KY\, 40208\, United States
CATEGORIES:Shows
ATTACH;FMTTYPE=image/png:https://frontavenuepotteryandtile.com/wp/wp-content/uploads/2022/07/StJamesLogo_horiz.png
END:VEVENT
BEGIN:VEVENT
DTSTART;TZID=America/Chicago:20261004T100000
DTEND;TZID=America/Chicago:20261004T170000
DTSTAMP:20260425T075732
CREATED:20230411T205812Z
LAST-MODIFIED:20260120T200919Z
UID:10000035-1791108000-1791133200@frontavenuepotteryandtile.com
SUMMARY:ST. JAMES COURT ART SHOW
DESCRIPTION:OCT 2-4:  FRI 10-6  SAT 10-6  SUN 10-5 \nSt. James Court Art Show has been named the #1 “Best Fine Art and Design Show” by Sunshine Artist magazine. Ranking among 200 of the most profitable art festivals in the country based on artists’ reported sales in 2022.\n2026 marks the 70th Annual St. James Court Art Show.\nThe St. James Court Art Show is a juried fine arts and contemporary crafts show featuring over 600 artists from around the U.S. held among the country’s largest collection of Victorian homes in the heart of historic Old Louisville.\nFIND FRONT AVENUE POTTERY IN THE ST. JAMES COURT ART SECTION\, BOOTH SJ-383
URL:https://frontavenuepotteryandtile.com/event/st-james-court-art-show/
LOCATION:St. James Court Art Show\, 1402 St James Court\, Louisville\, KY\, 40208\, United States
ATTACH;FMTTYPE=image/png:https://frontavenuepotteryandtile.com/wp/wp-content/uploads/2022/07/StJamesLogo_horiz.png
END:VEVENT
END:VCALENDAR