BEGIN:VCALENDAR
VERSION:2.0
PRODID:-//Front Avenue Pottery and Tile - ECPv6.15.20//NONSGML v1.0//EN
CALSCALE:GREGORIAN
METHOD:PUBLISH
X-ORIGINAL-URL:https://frontavenuepotteryandtile.com
X-WR-CALDESC:Events for Front Avenue Pottery and Tile
REFRESH-INTERVAL;VALUE=DURATION:PT1H
X-Robots-Tag:noindex
X-PUBLISHED-TTL:PT1H
BEGIN:VTIMEZONE
TZID:America/Chicago
BEGIN:DAYLIGHT
TZOFFSETFROM:-0600
TZOFFSETTO:-0500
TZNAME:CDT
DTSTART:20200308T080000
END:DAYLIGHT
BEGIN:STANDARD
TZOFFSETFROM:-0500
TZOFFSETTO:-0600
TZNAME:CST
DTSTART:20201101T070000
END:STANDARD
BEGIN:DAYLIGHT
TZOFFSETFROM:-0600
TZOFFSETTO:-0500
TZNAME:CDT
DTSTART:20210314T080000
END:DAYLIGHT
BEGIN:STANDARD
TZOFFSETFROM:-0500
TZOFFSETTO:-0600
TZNAME:CST
DTSTART:20211107T070000
END:STANDARD
BEGIN:DAYLIGHT
TZOFFSETFROM:-0600
TZOFFSETTO:-0500
TZNAME:CDT
DTSTART:20220313T080000
END:DAYLIGHT
BEGIN:STANDARD
TZOFFSETFROM:-0500
TZOFFSETTO:-0600
TZNAME:CST
DTSTART:20221106T070000
END:STANDARD
BEGIN:DAYLIGHT
TZOFFSETFROM:-0600
TZOFFSETTO:-0500
TZNAME:CDT
DTSTART:20230312T080000
END:DAYLIGHT
BEGIN:STANDARD
TZOFFSETFROM:-0500
TZOFFSETTO:-0600
TZNAME:CST
DTSTART:20231105T070000
END:STANDARD
BEGIN:DAYLIGHT
TZOFFSETFROM:-0600
TZOFFSETTO:-0500
TZNAME:CDT
DTSTART:20240310T080000
END:DAYLIGHT
BEGIN:STANDARD
TZOFFSETFROM:-0500
TZOFFSETTO:-0600
TZNAME:CST
DTSTART:20241103T070000
END:STANDARD
BEGIN:DAYLIGHT
TZOFFSETFROM:-0600
TZOFFSETTO:-0500
TZNAME:CDT
DTSTART:20250309T080000
END:DAYLIGHT
BEGIN:STANDARD
TZOFFSETFROM:-0500
TZOFFSETTO:-0600
TZNAME:CST
DTSTART:20251102T070000
END:STANDARD
BEGIN:DAYLIGHT
TZOFFSETFROM:-0600
TZOFFSETTO:-0500
TZNAME:CDT
DTSTART:20260308T080000
END:DAYLIGHT
BEGIN:STANDARD
TZOFFSETFROM:-0500
TZOFFSETTO:-0600
TZNAME:CST
DTSTART:20261101T070000
END:STANDARD
END:VTIMEZONE
BEGIN:VEVENT
DTSTART;TZID=America/Chicago:20250824T100000
DTEND;TZID=America/Chicago:20250824T170000
DTSTAMP:20260424T180856
CREATED:20240518T034743Z
LAST-MODIFIED:20250311T182504Z
UID:10000435-1756029600-1756054800@frontavenuepotteryandtile.com
SUMMARY:PORT CLINTON ART FESTIVAL
DESCRIPTION:AUGUST 23-24  10AM-5PM BOTH DAYS \nThe 42st Annual Port Clinton Art Festival returns to downtown Highland Park\, Illinois! \nSee the works of 260 “best of the best” artists at this historically ranked national top festival.  Celebrate 42 years of art at Port Clinton Art Festival in Highland Park \nceramics\, painting\, jewelry\, sculpture\, photographs\, fashion wearables\, furniture and more.  The downtown streets are closed to traffic during the festival\, so attendees can appreciate the city’s architecture and landscaping by foot in a relaxed fashion. enjoy delicious food and beverages from neighborhood establishments!
URL:https://frontavenuepotteryandtile.com/event/port-clinton-art-festival-2/
LOCATION:Port Clinton Art Festival\, 600 Central Ave.\, Highland Park\, IL\, United States
CATEGORIES:Shows
ATTACH;FMTTYPE=image/jpeg:https://frontavenuepotteryandtile.com/wp/wp-content/uploads/2021/03/port-clinton-art-festival-logo.jpg
END:VEVENT
BEGIN:VEVENT
DTSTART;TZID=America/Chicago:20250405T100000
DTEND;TZID=America/Chicago:20250405T163000
DTSTAMP:20260424T180856
CREATED:20240130T183047Z
LAST-MODIFIED:20250318T153130Z
UID:10000043-1743847200-1743870600@frontavenuepotteryandtile.com
SUMMARY:60 on 50th
DESCRIPTION:Spring 60 Artists on 50th Art Show! 79th bi-annual cultivated art show! Medias include~ glass\, jewelry\, clay\, painting\, drawing\, photography\, fiber\, leather\, wood\, furniture and much more! These are some of the best Artists on the Midwest! \n 
URL:https://frontavenuepotteryandtile.com/event/60-on-50th/
LOCATION:Burroughs Community School\, 1601 W 50th Street\,\, Minneapolis\, United States
CATEGORIES:Shows
ATTACH;FMTTYPE=image/jpeg:https://frontavenuepotteryandtile.com/wp/wp-content/uploads/2024/01/Spring-60-Artists-on-50th-poster-4.5.2025.jpg
END:VEVENT
BEGIN:VEVENT
DTSTART;TZID=America/Chicago:20240602T100000
DTEND;TZID=America/Chicago:20240602T170000
DTSTAMP:20260424T180856
CREATED:20240518T014221Z
LAST-MODIFIED:20240518T175627Z
UID:10000425-1717322400-1717347600@frontavenuepotteryandtile.com
SUMMARY:EDINA ART FAIR 50th & France
DESCRIPTION:Launched in 1966\, the Edina Art Fair has been rated top 50 best art fairs in the nation by Sunshine Artist and ranked #1 in MN! \nGETTING THERE!!\nYou will find ample complimentary parking. Please keep an eye on signage in each area. We have over 1000 free stalls available for our customers at 50th & France! \nNorth Ramp: accessible from Market Street\nCenter Ramp: underground\, accessible from Market Street\nSouth Ramp: accessible from west 51st Street\nEwing Lot: accessible from Ewing Avenue\nALSO:\nA free shuttle will be running from Edina City Hall on Saturday and Sunday\nThe shuttle will run from 1 hour before the fair until 1 hour after the fair both Saturday and Sunday\nThe shuttle will be running continuously
URL:https://frontavenuepotteryandtile.com/event/edina-art-fair-50th-france-3/
LOCATION:Edina Art Fair 50th & France\, 50th & France\, Edina\, MN\, United States
CATEGORIES:Shows
END:VEVENT
BEGIN:VEVENT
DTSTART;TZID=America/Chicago:20240601T100000
DTEND;TZID=America/Chicago:20240601T190000
DTSTAMP:20260424T180856
CREATED:20240518T014109Z
LAST-MODIFIED:20240518T175545Z
UID:10000424-1717236000-1717268400@frontavenuepotteryandtile.com
SUMMARY:EDINA ART FAIR 50th & France
DESCRIPTION:Launched in 1966\, the Edina Art Fair has been rated top 50 best art fairs in the nation by Sunshine Artist and ranked #1 in MN! \nGETTING THERE!!\nYou will find ample complimentary parking. Please keep an eye on signage in each area. We have over 1000 free stalls available for our customers at 50th & France! \nNorth Ramp: accessible from Market Street\nCenter Ramp: underground\, accessible from Market Street\nSouth Ramp: accessible from west 51st Street\nEwing Lot: accessible from Ewing Avenue\nALSO:\nA free shuttle will be running from Edina City Hall on Saturday and Sunday\nThe shuttle will run from 1 hour before the fair until 1 hour after the fair both Saturday and Sunday\nThe shuttle will be running continuously
URL:https://frontavenuepotteryandtile.com/event/edina-art-fair-50th-france-2/
LOCATION:Edina Art Fair 50th & France\, 50th & France\, Edina\, MN\, United States
CATEGORIES:Shows
END:VEVENT
BEGIN:VEVENT
DTSTART;TZID=America/Chicago:20240531T120000
DTEND;TZID=America/Chicago:20240531T190000
DTSTAMP:20260424T180856
CREATED:20240518T011533Z
LAST-MODIFIED:20240518T175451Z
UID:10000422-1717156800-1717182000@frontavenuepotteryandtile.com
SUMMARY:EDINA ART FAIR 50th & France
DESCRIPTION:Launched in 1966\, the Edina Art Fair has been rated top 50 best art fairs in the nation by Sunshine Artist and ranked #1 in MN! \nGETTING THERE!!\nYou will find ample complimentary parking. Please keep an eye on signage in each area. We have over 1000 free stalls available for our customers at 50th & France! \nNorth Ramp: accessible from Market Street\nCenter Ramp: underground\, accessible from Market Street\nSouth Ramp: accessible from west 51st Street\nEwing Lot: accessible from Ewing Avenue\nALSO:\nA free shuttle will be running from Edina City Hall on Saturday and Sunday\nThe shuttle will run from 1 hour before the fair until 1 hour after the fair both Saturday and Sunday\nThe shuttle will be running continuously
URL:https://frontavenuepotteryandtile.com/event/edina-art-fair-50th-france/
LOCATION:Edina Art Fair 50th & France\, 50th & France\, Edina\, MN\, United States
CATEGORIES:Shows
END:VEVENT
BEGIN:VEVENT
DTSTART;TZID=America/Chicago:20211114T100000
DTEND;TZID=America/Chicago:20211114T160000
DTSTAMP:20260424T180856
CREATED:20210320T134938Z
LAST-MODIFIED:20210320T135556Z
UID:10000017-1636884000-1636905600@frontavenuepotteryandtile.com
SUMMARY:PEGGY’S HOLIDAY BOUTIQUE
DESCRIPTION:Roseville Skating Center Banquet Room \nCounty Rd. C & Lexington\, Roseville\, MN
URL:https://frontavenuepotteryandtile.com/event/peggys-holiday-boutique/2021-11-14/
LOCATION:Peggy’s Holiday Boutique\, 2661 Civic Center Drive\, Roseville\, MN\, 55113\, United States
CATEGORIES:Shows
ATTACH;FMTTYPE=image/jpeg:https://frontavenuepotteryandtile.com/wp/wp-content/uploads/2021/03/peggys-holiday-boutique.jpeg
END:VEVENT
END:VCALENDAR